BEGIN:VCALENDAR
VERSION:2.0
PRODID:icalendar-ruby
CALSCALE:GREGORIAN
METHOD:PUBLISH
BEGIN:VEVENT
DTSTAMP:20260424T120714Z
UID:https://imprs-ml.mpg.de/events/43113/2948
DTSTART:20251113T150000Z
DTEND:20251113T160000Z
CLASS:PUBLIC
CREATED:20250922T111500Z
DESCRIPTION:Speaker: Wolfgang Zachariae
LAST-MODIFIED:20251111T155914Z
LOCATION:MPI Campus Martinsried\, Room: Large lecture hall
ORGANIZER;CN=IMPRS-ML:mailto:
SUMMARY:Through the landscapes of meiosis
URL;VALUE=URI:https://imprs-ml.mpg.de/events/43113/2948
END:VEVENT
END:VCALENDAR
